BEGIN:VCALENDAR
VERSION:2.0
PRODID:-//hacksw/handcal//NONSGML v1.0//EN
BEGIN:VEVENT
SUMMARY:Marche Nordique du Mardi 14 avril a POURRIERES
UID:417b1ba4-9a57-45f0-8baa-236526658423
DTSTART:20260414T063000Z
DTEND:20260414T093000Z
LOCATION:Localisation La Paliere 83910 Pourrieres
CATEGORIES:Sportif
STATUS:
DESCRIPTION:<p><span style="font-size:16px;"><strong>Seance de Marche
 Nordique</strong> <strong>du MARDI 14 avril
 </strong><strong>a </strong><strong>POURRIERES</strong></span></p><p><span
 style="font-size:14px;"><strong>Animateurs</strong> : Marie Ange et
 Marie-Pierre</span></p><p><span style="font-size:14px;">Duree de la
 seance : <strong>2h30 a 3h</strong></span></p><p><span
 style="font-size:14px;"><strong>Deroule type d'une seance</strong> :
 echauffements, corps de la seance (marche nordique avec, a
 mi-parcours, perfectionnements techniques et renforcements
 musculaires), etirements</span></p><p><span
 style="font-size:14px;"><strong>RDV covoiturage</strong> a la halte
 routiere de Fuveau <strong>a </strong></span><span
 style="font-size:18px;"><strong>7h50</strong></span></p><p><span
 style="font-size:14px;">ou</span></p><p><span
 style="font-size:14px;"><strong>RDV au depart du parcours</strong> a
 La Paliere (Chemin de la Sante, au niveau du Canal)<strong> a
 </strong></span><span
 style="font-size:18px;"><strong>8h30</strong></span><span
 style="font-size:14px;"><strong> </strong>(Coordonnees GPS : N
 43.514182°    E 5.745871°)</span></p><p class="western"
 style="text-align:left;"><u>Informations complementaires pour se
 rendre au depart du parcours</u></p><ol>	<li class="western"
 style="text-align:left;">	<p>Se rendre de Fuveau au village de
 Pourrieres</p>	</li>	<li>	<p>Passer devant la pharmacie des Bastides,
 prendre a droite au rond point puis la premiere route a gauche
 (chemin de la Sante) apres l'ecole et la
 creche</p>	</li>	<li>	<p>Continuer jusqu'au canal, traverser et vous
 garer.</p>	</li></ol><p><span style="font-size:14px;">Distance aller
 voiture : 22 km</span></p><p><span
 style="font-size:14px;">Covoiturage : 3.40 €</span></p><p><span
 style="font-size:14px;"><strong>Si vous souhaitez covoiturer
 </strong>a partir de la halte routiere de Fuveau, pensez a vous
 signaler dans les commentaires comme chauffeur et/ou
 passager.</span></p><p><span style="font-size:14px;"><strong>Les
 animateurs vous attendront au depart du
 parcours.</strong></span></p><p><span
 style="font-size:14px;"><u><strong>Rappels</strong></u><strong>
 :</strong></span></p><ul>	<li><span
 style="font-size:14px;"><strong>Batons de marche nordique <span
 style="color:#e74c3c;"><u>obligatoires</u>
 </span></strong>(l'association dispose de 10 paires de batons qui
 peuvent etre pretees aux debutants sur les 1eres
 seances)</span></li>	<li><span
 style="font-size:14px;"><strong>Chaussures adaptees a la marche
 nordique <u><span
 style="color:#e74c3c;">obligatoires</span></u></strong>  (type
 chaussures de trail)</span></li>	<li><span
 style="font-size:14px;"><strong>Vetements chauds et legers
 conseilles, anorak a proscrire</strong></span></li>	<li><span
 style="font-size:14px;"><strong>Eau et trousse de pharmacie
 personnelle a prevoir dans un petit sac a
 dos</strong></span></li></ul>
URL;VALUE=URI:https://www.randofuveau.fr/evenements/2026/04/14/marche-nordique-du-mardi-14-avril-a-pourrieres-2432518
END:VEVENT
END:VCALENDAR
